BEGIN:VCALENDAR
VERSION:2.0
PRODID:-//Squarespace Inc/Squarespace 6//v6//EN
BEGIN:VEVENT
UID:58050c1cf5e2317acc6596b3@squarespace.com
DTSTAMP:20161017T173744Z
DTSTART:20161111T140000Z
DTEND:20161111T230000Z
SUMMARY:HPWD Office Closed In Observance of Veterans' Day
END:VEVENT
END:VCALENDAR
