BEGIN:VCALENDAR
VERSION:2.0
PRODID:-//Squarespace Inc/Squarespace 6//v6//EN
BEGIN:VEVENT
UID:57fe519fb3db2be0d3fc36ec@squarespace.com
DTSTAMP:20161012T151927Z
DTSTART:20161108T193000Z
DTEND:20161108T230000Z
SUMMARY:HPWD Board Meeting Date & Location Change
END:VEVENT
END:VCALENDAR
