BEGIN:VCALENDAR
VERSION:2.0
PRODID:-//Squarespace Inc/Squarespace 6//v6//EN
BEGIN:VEVENT
UID:5c11685d352f536e102bb6d9@squarespace.com
DTSTAMP:20181212T200849Z
DTSTART:20191112T193000Z
DTEND:20191112T230000Z
SUMMARY:HPWD Board of Directors Meeting
END:VEVENT
END:VCALENDAR
