BEGIN:VCALENDAR
VERSION:2.0
PRODID:-//Squarespace Inc/Squarespace 6//v6//EN
BEGIN:VEVENT
UID:5c1170ce70a6ad2200eece85@squarespace.com
DTSTAMP:20181212T203524Z
DTSTART:20191130T020000Z
DTEND:20191130T030000Z
SUMMARY:HPWD Office Closed for Thanksgiving Holiday
END:VEVENT
END:VCALENDAR
